BEGIN:VCALENDAR
VERSION:2.0
PRODID:icalendar-ruby
CALSCALE:GREGORIAN
METHOD:PUBLISH
BEGIN:VEVENT
DTSTAMP:20260422T150640Z
UID:110-563263@fpcwinc.org
DTSTART:20260622T203000Z
DTEND:20260627T000000Z
CLASS:PUBLIC
CREATED:20260421T153119
DESCRIPTION:Rainforest Falls VBS 2026\nJune 22 - June 26\n4:30pm (EDT) to 8
 :00pm (EDT)\n116 S. Loudoun St.\nGrab your hiking boots and take a step th
 rough the misty air of Rainforest Falls\, overflowing with wild waterfalls
 \, towering trees\, and colorful creatures. Beneath a canopy of chattering
  birds and howling monkeys\, kids plunge into a lifelong adventure of disc
 overing the nature of God. They'll explore what it means to be rooted in a
  relationship with God\, their creator\, a refuge in life's storms.\nVBS i
 s for kids age 3 (must be potty trained)-completed 5th grade.\nInterested 
 in volunteering? Please email colleen@fpcwinc.org
LAST-MODIFIED:20260421T153119
LOCATION:First Presbyterian Church
SUMMARY:VBS: Rainforest Falls
URL;VALUE=URI:https://fpcwinc.org/events/vbs-rainforest-falls/2026-06-22
ATTACH;FILENAME=2026-VBS-YARD-SIGN--1.png;FMTTYPE=image/png:https://dq5pwpg
 1q8ru0.cloudfront.net/2026/04/21/19/29/54/3ad29ab9-123e-4bbb-92a9-2725623c
 4919/2026-VBS-YARD-SIGN--1.png
END:VEVENT
END:VCALENDAR
